View In:
ArcGIS JavaScript
ArcGIS Online Map Viewer
ArcGIS Earth
Service Description: Landbase/Orthophotos_2023_NorthShuswap_Web
Name: Landbase/Orthophotos_2023_NorthShuswap_Web
Description:
Single Fused Map Cache: false
Extent:
XMin: -1.33258438881E7
YMin: 6595766.564639501
XMax: -1.3281072260543235E7
YMax: 6618911.854099996
Spatial Reference: 102100
(3857)
VCSWkid(6647)
LatestVCSWkid(6647)
Initial Extent:
XMin: -1.33258438881E7
YMin: 6595766.564639501
XMax: -1.3281072260543235E7
YMax: 6618911.854099996
Spatial Reference: 102100
(3857)
VCSWkid(6647)
LatestVCSWkid(6647)
Full Extent:
XMin: -1.33258438881E7
YMin: 6595766.564639501
XMax: -1.3281072260543235E7
YMax: 6618911.854099996
Spatial Reference: 102100
(3857)
VCSWkid(6647)
LatestVCSWkid(6647)
Pixel Size X: 0.035621015998852285
Pixel Size Y: 0.03562101599885361
Band Count: 4
Pixel Type: U8
RasterFunction Infos: {"rasterFunctionInfos": [{
"help": "",
"name": "None",
"description": ""
}]}
Mensuration Capabilities: None
Inspection Capabilities:
Has Histograms: true
Has Colormap: false
Has Multi Dimensions : false
Rendering Rule:
Min Scale: 0
Max Scale: 0
Copyright Text:
Service Data Type: esriImageServiceDataTypeGeneric
Min Values: 0, 0, 0, 0
Max Values: 251, 252, 251, 255
Mean Values: 35.506602343893164, 34.743296573051175, 31.715284066533012, 94.982268025959314
Standard Deviation Values: 52.653399158882564, 49.854142740726417, 45.082112782690871, 123.28364242483585
Object ID Field: OBJECTID
Fields:
-
OBJECTID
(
alias: OBJECTID, type: esriFieldTypeOID
)
-
Shape
(
alias: Shape, type: esriFieldTypeGeometry
)
-
Name
(
length: 200, alias: Name, type: esriFieldTypeString
)
-
MinPS
(
alias: MinPS, type: esriFieldTypeDouble
)
-
MaxPS
(
alias: MaxPS, type: esriFieldTypeDouble
)
-
LowPS
(
alias: LowPS, type: esriFieldTypeDouble
)
-
HighPS
(
alias: HighPS, type: esriFieldTypeDouble
)
-
Category
(
alias: Category, type: esriFieldTypeInteger
, Coded Values:
[0: Unknown]
, [1: Primary]
, [2: Overview]
, ...6 more...
)
-
Tag
(
length: 100, alias: Tag, type: esriFieldTypeString
)
-
GroupName
(
length: 100, alias: GroupName, type: esriFieldTypeString
)
-
ProductName
(
length: 100, alias: ProductName, type: esriFieldTypeString
)
-
CenterX
(
alias: CenterX, type: esriFieldTypeDouble
)
-
CenterY
(
alias: CenterY, type: esriFieldTypeDouble
)
-
ZOrder
(
alias: ZOrder, type: esriFieldTypeInteger
)
-
Shape_Length
(
alias: Shape_Length, type: esriFieldTypeDouble
)
-
Shape_Area
(
alias: Shape_Area, type: esriFieldTypeDouble
)
Default Mosaic Method: Nadir
Allowed Mosaic Methods: Nadir,NorthWest,Center,LockRaster,ByAttribute,Viewpoint,Seamline,None
SortField:
SortValue: N/A
Mosaic Operator: Max
Default Compression Quality: 75
Default Resampling Method: Bilinear
Max Record Count: 1000
Max Image Height: 4100
Max Image Width: 15000
Max Download Image Count: 20
Max Mosaic Image Count: 20
Allow Raster Function: true
Allow Copy: true
Allow Analysis: true
Allow Compute TiePoints: false
Supports Statistics: true
Supports Advanced Queries: true
Use StandardizedQueries: true
Raster Type Infos:
Name: Raster Dataset
Description: Supports all ArcGIS Raster Datasets
Help:
Has Raster Attribute Table: false
Edit Fields Info: N/A
Ownership Based AccessControl For Rasters: N/A
Child Resources:
Info
Histograms
Statistics
Key Properties
Legend
Raster Function Infos
Supported Operations:
Export Image
Query
Identify
Compute Histograms
Compute Statistics Histograms
Get Samples
Compute Class Statistics
Query GPS Info
Find Images
Image to Map
Map to Image
Measure from Image
Image to Map Multiray
Query Boundary
Compute Pixel Location
Compute Angles
Validate
Project